BEGIN:VCALENDAR
VERSION:2.0
PRODID:-//Bama Slam - ECPv6.0.6.2//NONSGML v1.0//EN
CALSCALE:GREGORIAN
METHOD:PUBLISH
X-WR-CALNAME:Bama Slam
X-ORIGINAL-URL:https://bamaslamsaloon.com
X-WR-CALDESC:Events for Bama Slam
REFRESH-INTERVAL;VALUE=DURATION:PT1H
X-Robots-Tag:noindex
X-PUBLISHED-TTL:PT1H
BEGIN:VTIMEZONE
TZID:America/Chicago
BEGIN:DAYLIGHT
TZOFFSETFROM:-0600
TZOFFSETTO:-0500
TZNAME:CDT
DTSTART:20220313T080000
END:DAYLIGHT
BEGIN:STANDARD
TZOFFSETFROM:-0500
TZOFFSETTO:-0600
TZNAME:CST
DTSTART:20221106T070000
END:STANDARD
END:VTIMEZONE
BEGIN:VEVENT
DTSTART;VALUE=DATE:20220603
DTEND;VALUE=DATE:20220604
DTSTAMP:20260420T041913
CREATED:20220526T213517Z
LAST-MODIFIED:20220526T215920Z
UID:3050-1654214400-1654300799@bamaslamsaloon.com
SUMMARY:The Tams Prime Rib or Fish Dinner at Bama Slam
DESCRIPTION:Friday night\, June 3rd\, come enjoy dinner and a show with The Tams! The dinner options are prime rib and fried/blackened fish with mixed vegetables\, hushpuppies\, and french fries\, with a roll. Both meals come with a salad and dessert. Dinner and admission to the show is $49.95.Doors open at 5:00 P.M and music starts at 8 P.M. Saturday we are saying “aloha to summer ” and having a Hawaiian pool party with music and saloon specials! The waterpark and saloon is open Friday-Sunday 11-5. Don’t forget we have ATV AND SXS rentals at the general store. Come stay the weekend with us!
URL:https://bamaslamsaloon.com/event/the-tams-prime-rib-or-fish-dinner/
LOCATION:Bama Slam\, 567 County Road 156\, New Brockton\, Alabama\, 36351
ATTACH;FMTTYPE=image/jpeg:https://bamaslamsaloon.com/wp-content/uploads/2022/05/84E7FAFE-A0AC-4970-8D26-721F134125A0.jpeg
END:VEVENT
END:VCALENDAR