BEGIN:VCALENDAR
VERSION:2.0
PRODID:-//Bama Slam - ECPv6.0.6.2//NONSGML v1.0//EN
CALSCALE:GREGORIAN
METHOD:PUBLISH
X-ORIGINAL-URL:https://bamaslamsaloon.com
X-WR-CALDESC:Events for Bama Slam
REFRESH-INTERVAL;VALUE=DURATION:PT1H
X-Robots-Tag:noindex
X-PUBLISHED-TTL:PT1H
BEGIN:VTIMEZONE
TZID:America/Chicago
BEGIN:DAYLIGHT
TZOFFSETFROM:-0600
TZOFFSETTO:-0500
TZNAME:CDT
DTSTART:20220313T080000
END:DAYLIGHT
BEGIN:STANDARD
TZOFFSETFROM:-0500
TZOFFSETTO:-0600
TZNAME:CST
DTSTART:20221106T070000
END:STANDARD
END:VTIMEZONE
BEGIN:VEVENT
DTSTART;VALUE=DATE:20220618
DTEND;VALUE=DATE:20220619
DTSTAMP:20260419T195040
CREATED:20220518T050545Z
LAST-MODIFIED:20220518T213946Z
UID:2982-1655510400-1655596799@bamaslamsaloon.com
SUMMARY:Shackelford Lane at Bama Slam
DESCRIPTION:Shackelford Lane at Bama Slam\nPresented by Mitchell Automotive Group\nSaturday\, June 18\, 2022
URL:https://bamaslamsaloon.com/event/shackelford-lane-at-bama-slam/
LOCATION:Bama Slam\, 567 County Road 156\, New Brockton\, Alabama\, 36351
ATTACH;FMTTYPE=image/png:https://bamaslamsaloon.com/wp-content/uploads/2022/05/Copy-of-Facebook-Cover-Photos-7-e1652910168363.png
END:VEVENT
END:VCALENDAR