BEGIN:VCALENDAR
VERSION:2.0
PRODID:-//Bama Slam - ECPv6.0.6.2//NONSGML v1.0//EN
CALSCALE:GREGORIAN
METHOD:PUBLISH
X-ORIGINAL-URL:https://bamaslamsaloon.com
X-WR-CALDESC:Events for Bama Slam
REFRESH-INTERVAL;VALUE=DURATION:PT1H
X-Robots-Tag:noindex
X-PUBLISHED-TTL:PT1H
BEGIN:VTIMEZONE
TZID:America/Chicago
BEGIN:DAYLIGHT
TZOFFSETFROM:-0600
TZOFFSETTO:-0500
TZNAME:CDT
DTSTART:20220313T080000
END:DAYLIGHT
BEGIN:STANDARD
TZOFFSETFROM:-0500
TZOFFSETTO:-0600
TZNAME:CST
DTSTART:20221106T070000
END:STANDARD
END:VTIMEZONE
BEGIN:VEVENT
DTSTART;VALUE=DATE:20220625
DTEND;VALUE=DATE:20220626
DTSTAMP:20260420T082642
CREATED:20220518T055743Z
LAST-MODIFIED:20220602T182901Z
UID:2994-1656115200-1656201599@bamaslamsaloon.com
SUMMARY:Jacob Bryant at Bama Slam
DESCRIPTION:Country star Jacob Bryant is at Bama Slam on June 25\, 2022! Don’t miss out on the perfect getaway with a waterpark\, saloon with full bar and amazing food\, premier campground with on-site showers and bathrooms\, and the famous ATV SxS park! This event is presented by Mitchell Automotive Group.
URL:https://bamaslamsaloon.com/event/jacob-bryant-at-bama-slam/
LOCATION:Bama Slam\, 567 County Road 156\, New Brockton\, Alabama\, 36351
ATTACH;FMTTYPE=image/png:https://bamaslamsaloon.com/wp-content/uploads/2022/05/Copy-of-Facebook-Cover-Photos-3-e1652854693762.png
END:VEVENT
END:VCALENDAR