BEGIN:VCALENDAR
VERSION:2.0
PRODID:-//Bama Slam - ECPv6.0.6.2//NONSGML v1.0//EN
CALSCALE:GREGORIAN
METHOD:PUBLISH
X-WR-CALNAME:Bama Slam
X-ORIGINAL-URL:https://bamaslamsaloon.com
X-WR-CALDESC:Events for Bama Slam
REFRESH-INTERVAL;VALUE=DURATION:PT1H
X-Robots-Tag:noindex
X-PUBLISHED-TTL:PT1H
BEGIN:VTIMEZONE
TZID:America/Chicago
BEGIN:DAYLIGHT
TZOFFSETFROM:-0600
TZOFFSETTO:-0500
TZNAME:CDT
DTSTART:20220313T080000
END:DAYLIGHT
BEGIN:STANDARD
TZOFFSETFROM:-0500
TZOFFSETTO:-0600
TZNAME:CST
DTSTART:20221106T070000
END:STANDARD
END:VTIMEZONE
BEGIN:VEVENT
DTSTART;TZID=America/Chicago:20220917T120000
DTEND;TZID=America/Chicago:20220918T020000
DTSTAMP:20260419T143750
CREATED:20220909T152624Z
LAST-MODIFIED:20220914T023125Z
UID:3973-1663416000-1663466400@bamaslamsaloon.com
SUMMARY:Atomic Subculture 9/17/22 FREE COVER at Bama Slam
DESCRIPTION:Join us for a rock n roll good time! This event is free cover for all ages. Saloon hours: 12:00 PM-2 AM. Show starts at 9:00 PM. Atomic Subculture is an American rock n roll band looking to spark up some good music and good vibes. Band members Patrick\, Josh\, Ty\, and Cam share a vision beyond their very own comprehension. Playing their rolls for the puppet master\, they strive for understanding. Through years of hard work these fine young gentlemen have overcome many obstacles. As they pick up the broken pieces of a devastating chapter and continue on heads held high\, they remember the puppet master has a plan. The vision is stronger than ever with these four brothers. Though they love to write and record music\, Atomic Subculture understands the importance of maintaining a steady work flow for their brand and business. “Gotta get with the times man” \, says lead guitar player Patrick. “Nobody cares unless you can prove to them that you can play their favorite tunes while they enjoy drinks and a good time”. The band wants to show the world their versatility and aspiration for performance and entertainment.
URL:https://bamaslamsaloon.com/event/atomic-subculture-9-17-22-free-cover-at-bama-slam/
LOCATION:Bama Slam\, 567 County Road 156\, New Brockton\, Alabama\, 36351
ATTACH;FMTTYPE=image/jpeg:https://bamaslamsaloon.com/wp-content/uploads/2022/09/AtomicSuibculture2.jpeg
END:VEVENT
END:VCALENDAR