BEGIN:VCALENDAR
VERSION:2.0
PRODID:-//Bama Slam - ECPv6.0.6.2//NONSGML v1.0//EN
CALSCALE:GREGORIAN
METHOD:PUBLISH
X-ORIGINAL-URL:https://bamaslamsaloon.com
X-WR-CALDESC:Events for Bama Slam
REFRESH-INTERVAL;VALUE=DURATION:PT1H
X-Robots-Tag:noindex
X-PUBLISHED-TTL:PT1H
BEGIN:VTIMEZONE
TZID:America/Chicago
BEGIN:DAYLIGHT
TZOFFSETFROM:-0600
TZOFFSETTO:-0500
TZNAME:CDT
DTSTART:20220313T080000
END:DAYLIGHT
BEGIN:STANDARD
TZOFFSETFROM:-0500
TZOFFSETTO:-0600
TZNAME:CST
DTSTART:20221106T070000
END:STANDARD
END:VTIMEZONE
BEGIN:VEVENT
DTSTART;TZID=America/Chicago:20220924T120000
DTEND;TZID=America/Chicago:20220925T020000
DTSTAMP:20260419T124435
CREATED:20220909T203631Z
LAST-MODIFIED:20220914T022928Z
UID:3982-1664020800-1664071200@bamaslamsaloon.com
SUMMARY:The Rowdy Friends Band Saturday 9/24 at Bama Slam
DESCRIPTION:The Rowdy Friends are coming to get rowdy at the Bama Slam Saloon on Saturday\, 9/24 at 9:30 PM. FREE cover until 8:00 PM\, $5 Cover after 8:00 PM unless you bring a friend and then both get free cover! \nSaloon hours: \nSaturday 12:00 PM-2 AM \nHappy Hour: 5:30-7:30 PM
URL:https://bamaslamsaloon.com/event/the-rowdy-friends-band-at-bama-slam/
LOCATION:Bama Slam\, 567 County Road 156\, New Brockton\, Alabama\, 36351
ATTACH;FMTTYPE=image/png:https://bamaslamsaloon.com/wp-content/uploads/2022/09/Rowdy-Friends-Band.png
END:VEVENT
END:VCALENDAR