BEGIN:VCALENDAR
VERSION:2.0
PRODID:-//Bama Slam - ECPv6.0.6.2//NONSGML v1.0//EN
CALSCALE:GREGORIAN
METHOD:PUBLISH
X-WR-CALNAME:Bama Slam
X-ORIGINAL-URL:https://bamaslamsaloon.com
X-WR-CALDESC:Events for Bama Slam
REFRESH-INTERVAL;VALUE=DURATION:PT1H
X-Robots-Tag:noindex
X-PUBLISHED-TTL:PT1H
BEGIN:VTIMEZONE
TZID:America/Chicago
BEGIN:DAYLIGHT
TZOFFSETFROM:-0600
TZOFFSETTO:-0500
TZNAME:CDT
DTSTART:20220313T080000
END:DAYLIGHT
BEGIN:STANDARD
TZOFFSETFROM:-0500
TZOFFSETTO:-0600
TZNAME:CST
DTSTART:20221106T070000
END:STANDARD
END:VTIMEZONE
BEGIN:VEVENT
DTSTART;VALUE=DATE:20221112
DTEND;VALUE=DATE:20221113
DTSTAMP:20260419T125119
CREATED:20220822T142226Z
LAST-MODIFIED:20221107T180956Z
UID:3862-1668211200-1668297599@bamaslamsaloon.com
SUMMARY:Frank Foster Veteran's Day Weekend at Bama Slam
DESCRIPTION:Mitchell Automotive welcomes back Country music singer-songwriter\, Frank Foster at the Bama Slam Saloon on Saturday\, November 12th. \nCLICK HERE FOR TICKETS\nRowdy Friends Band starts at 7:30pm\nFrank Foster show kicks off at 9:00pm\nFrank Foster embodies musical independence at its highest level. He not only has taken the road less traveled\, but the road almost never traveled. Acting as his own record label\, management\, booking agency and publishing company\, he has managed to find success that some major label artist may never find. This rural Louisiana native and former oilfield man has taken his songs from the campfire to the coliseum seemingly overnight\, all the while gaining a following of fans whose loyalty is unmatched. \nHis musical journey started in 2011 with the release of his first album “Rowdy Reputation”. To follow that up\, in the late summer of 2012\, he released his second album “Red Wings and Six Strings” which debuted at #30 on the Billboard Country Charts and #1 on Billboard’s South Central U.S. Heat Seeker’s chart. Foster’s next five albums also all debuted on the Billboard Country Charts. Southern Soul was released in 2013 debuting at #11. Rhythm and Whiskey was released in 2014 debuted at #4. His early 2016 release\, Boots On The Ground\, debuted at #7. Later in 2016\, he released Good Country Music\, which debuted at #13. In 2018\, he released his seventh album\, ’Til I’m Gone\, which debuted at #2 on the Billboard Country Album Sales Charts giving Foster his highest mark yet. He’s a singer\, a songwriter and his own boss. He refuses to let anyone water down his kind of country music. If he lives it\, he writes it; if he writes it\, he sings it; if he sings it\, he believes it. Frank Foster … a true original \nNeed a place to crash?! We’ve got The Bama Slam RV Park & Campground ready for you! Click the link below to book: \nhttps://www.campspot.com/book/bamaslamsaloon \nCLICK HERE FOR TICKETS
URL:https://bamaslamsaloon.com/event/frank-foster-veterans-day-weekend-at-bama-slam/
LOCATION:Bama Slam\, 567 County Road 156\, New Brockton\, Alabama\, 36351
ATTACH;FMTTYPE=application/pdf:https://bamaslamsaloon.com/wp-content/uploads/2022/08/frank-foster-website.pdf
END:VEVENT
END:VCALENDAR