BEGIN:VCALENDAR
VERSION:2.0
PRODID:-//Bama Slam - ECPv6.0.6.2//NONSGML v1.0//EN
CALSCALE:GREGORIAN
METHOD:PUBLISH
X-WR-CALNAME:Bama Slam
X-ORIGINAL-URL:https://bamaslamsaloon.com
X-WR-CALDESC:Events for Bama Slam
REFRESH-INTERVAL;VALUE=DURATION:PT1H
X-Robots-Tag:noindex
X-PUBLISHED-TTL:PT1H
BEGIN:VTIMEZONE
TZID:America/Chicago
BEGIN:DAYLIGHT
TZOFFSETFROM:-0600
TZOFFSETTO:-0500
TZNAME:CDT
DTSTART:20220313T080000
END:DAYLIGHT
BEGIN:STANDARD
TZOFFSETFROM:-0500
TZOFFSETTO:-0600
TZNAME:CST
DTSTART:20221106T070000
END:STANDARD
END:VTIMEZONE
BEGIN:VEVENT
DTSTART;TZID=America/Chicago:20221118T170000
DTEND;TZID=America/Chicago:20221119T020000
DTSTAMP:20260419T130051
CREATED:20220914T170443Z
LAST-MODIFIED:20220914T170652Z
UID:4003-1668790800-1668823200@bamaslamsaloon.com
SUMMARY:Midlife Crisis at Bama Slam
DESCRIPTION:Mitchell Automotive Group welcomes Midlife Crisis to the Bama Slam Saloon on Friday\, November 18th. \nDoors open at the Bama Slam Saloon at 5:00pm\nHappy Hour starts from 5:00pm-7:00pm\nShow starts at 9:00pm \nMidLife Crisis has been bringing their high energy\, good-time 90’s rock music to audiences in the southeast since 2015. Hailed as “The Premier 90’s rock and alternative band in the Southeast\,” MidLife Crisis has its roots planted firmly in the music you remember and love from the early\, mid and late 90’s covering bands such as Stone Temple Pilots\, Foo Fighters\, Nirvana\, Cake\, Smashing Pumpkins and Bush. \nThe band’s captivating\, high-energy performances transport audiences back in time as MidLife Crisis blends musicianship and creativity to bring you back to the days of your CD book in the front seat of your car! They’re a “bottomless pit of musical ear candy” in the words of one fan. People have said time and time again that they loved dancing\, singing along and even crowd surfing a time or two with the guys of MLC! This is a band that knows how to entertain. \nAudience members have described MidLife Crisis as “excellent musicianship combined with entertaining showmanship\,” “hard hitting music with all the lyrics you remember and that makes people want to sing along\,” “high energy with a feel-good vibe\,” and “lots of fun.” Every performer in the band exudes a love of music. \nIt’s not unusual for the unusual to happen at MidLife Crisis performance. You never know when they’ll bust out into one of your favorite songs from the 90’s or have special guest musicians that will hop up on stage and jam with them! If you’re looking for a good time this is your band!
URL:https://bamaslamsaloon.com/event/midlife-crisis-at-bama-slam/
LOCATION:Bama Slam\, 567 County Road 156\, New Brockton\, Alabama\, 36351
ATTACH;FMTTYPE=application/pdf:https://bamaslamsaloon.com/wp-content/uploads/2022/09/midlife-new-.pdf
END:VEVENT
END:VCALENDAR