BEGIN:VCALENDAR
VERSION:2.0
PRODID:-//Bama Slam - ECPv6.0.6.2//NONSGML v1.0//EN
CALSCALE:GREGORIAN
METHOD:PUBLISH
X-ORIGINAL-URL:https://bamaslamsaloon.com
X-WR-CALDESC:Events for Bama Slam
REFRESH-INTERVAL;VALUE=DURATION:PT1H
X-Robots-Tag:noindex
X-PUBLISHED-TTL:PT1H
BEGIN:VTIMEZONE
TZID:America/Chicago
BEGIN:DAYLIGHT
TZOFFSETFROM:-0600
TZOFFSETTO:-0500
TZNAME:CDT
DTSTART:20230312T080000
END:DAYLIGHT
BEGIN:STANDARD
TZOFFSETFROM:-0500
TZOFFSETTO:-0600
TZNAME:CST
DTSTART:20231105T070000
END:STANDARD
END:VTIMEZONE
BEGIN:VEVENT
DTSTART;TZID=America/Chicago:20230414T170000
DTEND;TZID=America/Chicago:20230416T170000
DTSTAMP:20260420T011044
CREATED:20230323T161817Z
LAST-MODIFIED:20230323T161817Z
UID:4485-1681491600-1681664400@bamaslamsaloon.com
SUMMARY:Darryl Worley Weekend at Bama Slam
DESCRIPTION:Mitchell Automotive presents a Darryl Worley Weekend at Bama Slam!\n\n“The 40th Anniversary of the Aviation Branch: Honoring the Past and Transforming for the Future” – Bama Slam invites you and all Military ( Active duty or Retired ) to help us celebrate on Friday\, April 14th as “Ft. Rucker Appreciation Night”. We want to recognize the recent name change of Ft. Rucker to Ft. Novesel.\nWhat better guest to have involved than the man himself. Country Music Artist\, Darryl Worley as he performs a special “Military Appreciation Show”!! Hunter Clark will be opening the show at 7:00pm and Darryl Worley hits the stage at 9:00pm! ALL MILITARY\, ACTIVE DUTY OR RETIRED ENTER IN FREE! \nThe Weekend doesn’t stop there yall! Get ready for a treat on Saturday\, April 15th as we dig back to the roots of Country music!!  Darryl Worley will be performing his “Honky Tonky Tribute”. — And let us tell yall!!! Ain’t no Honky Tonk\, like a Darryl Worley Honky Tonk!! \nHunter Clark hits the stage at 7:00pm and the “HONKY TONK SPECIAL” kicks off at 9:00pm. \n\nCLICK HERE FOR TICKETS \nOFF ROAD TRAILS WILL BE OPEN THE ENTIRE WEEKEND  \nWATERPARK WILL BE OPEN ON SATURDAY & SUNDAY
URL:https://bamaslamsaloon.com/event/darryl-worley-weekend-at-bama-slam/
LOCATION:Bama Slam\, 567 County Road 156\, New Brockton\, Alabama\, 36351
END:VEVENT
END:VCALENDAR