BEGIN:VCALENDAR
VERSION:2.0
PRODID:-//Bama Slam - ECPv6.0.6.2//NONSGML v1.0//EN
CALSCALE:GREGORIAN
METHOD:PUBLISH
X-ORIGINAL-URL:https://bamaslamsaloon.com
X-WR-CALDESC:Events for Bama Slam
REFRESH-INTERVAL;VALUE=DURATION:PT1H
X-Robots-Tag:noindex
X-PUBLISHED-TTL:PT1H
BEGIN:VTIMEZONE
TZID:America/Chicago
BEGIN:DAYLIGHT
TZOFFSETFROM:-0600
TZOFFSETTO:-0500
TZNAME:CDT
DTSTART:20230312T080000
END:DAYLIGHT
BEGIN:STANDARD
TZOFFSETFROM:-0500
TZOFFSETTO:-0600
TZNAME:CST
DTSTART:20231105T070000
END:STANDARD
END:VTIMEZONE
BEGIN:VEVENT
DTSTART;VALUE=DATE:20230505
DTEND;VALUE=DATE:20230508
DTSTAMP:20260420T024344
CREATED:20221228T053943Z
LAST-MODIFIED:20221228T072731Z
UID:4305-1683244800-1683503999@bamaslamsaloon.com
SUMMARY:Sol Fest Music and Arts Festival
DESCRIPTION:SOL FEST RETURNS FOR AN EXPLOSIVE YEAR AT BAMA SLAM MAY 5TH-7TH 2023!\nSol Fest returns to Bama Slam Campground and Waterpark featuring 3+ Stages and 50+ EDM Artists + More! Step into an illuminating world with premier production. Uplift your spirit with morning healing workshops like yoga\, ecstatic dance\, and meditation. Splash at the waterpark wonderland with beach sand\, palm trees\, zip-lines and waterslides while DJs throw down on stage! Enjoy panoramic lake views with an inflatable obstacle course\, beach with volleyball court\, and holographic water screen light shows. Witness art come to life in a mind-altering wonderland with flow performers\, atmospheric lighting\, immersive live and digital art\, and interactive installations. VIP and premier camping options available!
URL:https://bamaslamsaloon.com/event/sol-fest-music-and-arts-festival-23/
LOCATION:Bama Slam\, 567 County Road 156\, New Brockton\, Alabama\, 36351
END:VEVENT
END:VCALENDAR