BEGIN:VCALENDAR
VERSION:2.0
PRODID:-//Bama Slam - ECPv6.0.6.2//NONSGML v1.0//EN
CALSCALE:GREGORIAN
METHOD:PUBLISH
X-ORIGINAL-URL:https://bamaslamsaloon.com
X-WR-CALDESC:Events for Bama Slam
REFRESH-INTERVAL;VALUE=DURATION:PT1H
X-Robots-Tag:noindex
X-PUBLISHED-TTL:PT1H
BEGIN:VTIMEZONE
TZID:America/Chicago
BEGIN:DAYLIGHT
TZOFFSETFROM:-0600
TZOFFSETTO:-0500
TZNAME:CDT
DTSTART:20230312T080000
END:DAYLIGHT
BEGIN:STANDARD
TZOFFSETFROM:-0500
TZOFFSETTO:-0600
TZNAME:CST
DTSTART:20231105T070000
END:STANDARD
END:VTIMEZONE
BEGIN:VEVENT
DTSTART;TZID=America/Chicago:20230520T190000
DTEND;TZID=America/Chicago:20230521T020000
DTSTAMP:20260420T010945
CREATED:20230425T195620Z
LAST-MODIFIED:20230425T195620Z
UID:4592-1684609200-1684634400@bamaslamsaloon.com
SUMMARY:Glow Party with Dj Slim Sadie ft. Dj Tev
DESCRIPTION:Mitchell Automotive welcomes Dj Slim Sadie featuring Dj Tev at Bama Slam on Saturday\, May 20th.\nGet ready for Bama Slam’s first Glow Party. Entry starts at 7PM. Show starts at 9PM.\nWe’re dancing under the neon lights to Today’s Top 40 Hits format. Grab your friends and make it a night with us here at Bama Slam.\n$10 Entry! Click here or purchase at the door. 18 + ONLY EVENT. \nDon’t forget what all Bama Slam has to offer: the waterpark\, beautiful lake views with white beach sand and palm trees\, on-site showers and bathrooms\, delicious food and full-service drinks\, the premier ATV and SxS park\, and more! Once you get to Bama Slam\, you will never want to leave!
URL:https://bamaslamsaloon.com/event/glow-party-with-dj-slim-sadie-ft-dj-tev/
LOCATION:Bama Slam\, 567 County Road 156\, New Brockton\, Alabama\, 36351
END:VEVENT
END:VCALENDAR