BEGIN:VCALENDAR
VERSION:2.0
PRODID:-//Bama Slam - ECPv6.0.6.2//NONSGML v1.0//EN
CALSCALE:GREGORIAN
METHOD:PUBLISH
X-WR-CALNAME:Bama Slam
X-ORIGINAL-URL:https://bamaslamsaloon.com
X-WR-CALDESC:Events for Bama Slam
REFRESH-INTERVAL;VALUE=DURATION:PT1H
X-Robots-Tag:noindex
X-PUBLISHED-TTL:PT1H
BEGIN:VTIMEZONE
TZID:America/Chicago
BEGIN:DAYLIGHT
TZOFFSETFROM:-0600
TZOFFSETTO:-0500
TZNAME:CDT
DTSTART:20230312T080000
END:DAYLIGHT
BEGIN:STANDARD
TZOFFSETFROM:-0500
TZOFFSETTO:-0600
TZNAME:CST
DTSTART:20231105T070000
END:STANDARD
END:VTIMEZONE
BEGIN:VEVENT
DTSTART;VALUE=DATE:20230526
DTEND;VALUE=DATE:20230530
DTSTAMP:20260420T023719
CREATED:20230410T170706Z
LAST-MODIFIED:20230522T171027Z
UID:4545-1685059200-1685404799@bamaslamsaloon.com
SUMMARY:Memorial Day Weekend Party
DESCRIPTION:CLICK HERE TO BUY TICKETS \nWe told y’all we’re bringing the THUNDER! Get ready for a 4 DAY MINI FESTIVAL! We’re kicking off the 𝐌𝐞𝐦𝐨𝐫𝐢𝐚𝐥 𝐖𝐞𝐞𝐤𝐞𝐧𝐝 𝐏𝐚𝐫𝐭𝐲 at ☀️☀️ Bama Slam ( May 26th – May 29th ) Jamming’ out for the weekend on our outside Beach Stage we’ve got Rodney Atkins\, Maddie & Tae\, The Cadillac Three\, Bryan Martin\, Alana Springsteen\, Tanner Usrey\, and Hunter Clark! \nWe will have an all day “Beach Darty” at the Swimming hole with DJ Slxxpy Head in the mix the entire weekend!! \nVendors will include food\, merch\, and art for the weekend! \nCLICK HERE TO BUY TICKETS \n💥 Belly Flop competitions on both Saturday and Sunday $500 in payouts\n💥 “Slam Warrior” Competitions on Slam Island in the Swimming Hole \n‼️ SWIMMING HOLE AND MUD PARK OPEN THE ENTIRE WEEKEND! \n𝐓𝐇𝐀𝐍𝐊 𝐘𝐎𝐔 𝐌𝐈𝐓𝐂𝐇𝐄𝐋𝐋 𝐀𝐔𝐓𝐎𝐌𝐎𝐓𝐈𝐕𝐄 𝐆𝐑𝐎𝐔𝐏!!
URL:https://bamaslamsaloon.com/event/memorial-day-weekend-party/
END:VEVENT
END:VCALENDAR