BEGIN:VCALENDAR
VERSION:2.0
PRODID:-//Bama Slam - ECPv6.0.6.2//NONSGML v1.0//EN
CALSCALE:GREGORIAN
METHOD:PUBLISH
X-WR-CALNAME:Bama Slam
X-ORIGINAL-URL:https://bamaslamsaloon.com
X-WR-CALDESC:Events for Bama Slam
REFRESH-INTERVAL;VALUE=DURATION:PT1H
X-Robots-Tag:noindex
X-PUBLISHED-TTL:PT1H
BEGIN:VTIMEZONE
TZID:America/Chicago
BEGIN:DAYLIGHT
TZOFFSETFROM:-0600
TZOFFSETTO:-0500
TZNAME:CDT
DTSTART:20230312T080000
END:DAYLIGHT
BEGIN:STANDARD
TZOFFSETFROM:-0500
TZOFFSETTO:-0600
TZNAME:CST
DTSTART:20231105T070000
END:STANDARD
END:VTIMEZONE
BEGIN:VEVENT
DTSTART;TZID=America/Chicago:20230630T080000
DTEND;TZID=America/Chicago:20230704T180000
DTSTAMP:20260420T155437
CREATED:20230622T145353Z
LAST-MODIFIED:20230622T175403Z
UID:4746-1688112000-1688493600@bamaslamsaloon.com
SUMMARY:Great American Weekend
DESCRIPTION:CLICK HERE FOR TICKETS! \nMitchell Automotive Group welcomes The Great American Weekend!! Get ready to gather the FAMILY as we celebrate INDEPENDENCE Day\, ALL WEEKEND LONG! Festivities include live music\, the Swimming Hole\, ATV Off Road Trails and SO MUCH MORE!!\nThe Swimming Hole has been a top source of entertainment in the Tri-state area for many years. What started as a local hang-out\, has since turned into a leading Water Park where families and friends meet to enjoy and make new memories.\n\nWhether you are looking for all the amenities a full hookup site can offer\, or maybe Primitive Camping is your style\, we have something for everyone at the Bama Slam RV Park & Campground \nCLICK HERE FOR TICKETS! \n\n\nFriday\, June 30th:\n8AM General Store and Gates open\n10AM-6PM Swimming Hole\n9PM LIVE music with Darrell Qualls and The Outlaws\nSaturday\, July 1st:\n8AM General Store and Gates open\n10AM-6PM Swimming Hole\n2PM-3PM Slam Warrior Competition Registration\n3PM Slam Warrior Competition\n9PM LIVE music with Hunter Clark\nSunday\, July 2nd:\n8AM General Store and Gates open\n10AM-6PM Swimming Hole\nMonday\, July 3rd:\n10AM-6PM Swimming Hole\nTuesday\, July 4th:\n10AM-6PM Swimming Hole\n\nWe offer on-site showers and bathrooms\, delicious food and full-service drinks\, the Swimming Hole\, the ATV Park and more! Once you get to Bama Slam\, you will never want to leave!
URL:https://bamaslamsaloon.com/event/4746/
END:VEVENT
END:VCALENDAR