BEGIN:VCALENDAR
VERSION:2.0
PRODID:-//Bama Slam - ECPv6.0.6.2//NONSGML v1.0//EN
CALSCALE:GREGORIAN
METHOD:PUBLISH
X-ORIGINAL-URL:https://bamaslamsaloon.com
X-WR-CALDESC:Events for Bama Slam
REFRESH-INTERVAL;VALUE=DURATION:PT1H
X-Robots-Tag:noindex
X-PUBLISHED-TTL:PT1H
BEGIN:VTIMEZONE
TZID:America/Chicago
BEGIN:DAYLIGHT
TZOFFSETFROM:-0600
TZOFFSETTO:-0500
TZNAME:CDT
DTSTART:20220313T080000
END:DAYLIGHT
BEGIN:STANDARD
TZOFFSETFROM:-0500
TZOFFSETTO:-0600
TZNAME:CST
DTSTART:20221106T070000
END:STANDARD
BEGIN:DAYLIGHT
TZOFFSETFROM:-0600
TZOFFSETTO:-0500
TZNAME:CDT
DTSTART:20230312T080000
END:DAYLIGHT
BEGIN:STANDARD
TZOFFSETFROM:-0500
TZOFFSETTO:-0600
TZNAME:CST
DTSTART:20231105T070000
END:STANDARD
END:VTIMEZONE
BEGIN:VEVENT
DTSTART;TZID=America/Chicago:20221104T170000
DTEND;TZID=America/Chicago:20221105T020000
DTSTAMP:20260419T093247
CREATED:20221018T153012Z
LAST-MODIFIED:20221018T153112Z
UID:4167-1667581200-1667613600@bamaslamsaloon.com
SUMMARY:Velcro Pygmies at Bama Slam 11/04
DESCRIPTION:Guess who’s COMING BACK! \nMitchell Automotive welcomes back the Velcro Pygmies to the Bama Slam Saloon on Friday\, November 4th. Come ROCK OUT with the best Party Band in ALABAMA! \nPURCHASE TICKETS HERE\nThe World Famous Velcro Pygmies want to take you on a little journey\, and they promise it won’t hurt.  This golden ticket will get you a trip back to a time when music was in its prime. Back when hair was big but rock ‘n’ roll was bigger … back when a 17-second guitar solo transformed a man and his machine into a Rock God … back when fallen angels swarmed the front row like Aquanet to a feathered bang. \nThe Velcro Pygmies travel the country year round – from the Gulf Shores to the Great Lakes – to share the sights\, sounds and stain-washed denim of the glorious ’80s\, schooling audiences on the difference between a rock band and a rock show. From start to finish\, they command the stage with a prowess uncommon in today’s industry\, and they leave you begging for more. No gimmicks or tricks\, just undiluted rock ‘n’ roll energy that unites every race\, creed\, age and gender. \nThe Velcro Pygmies are more than just a band – they are a way of life. They’re a nitro-fueled Trans Am prowling the streets at dusk\, looking for some action – satisfaction all night. They ain’t looking for nothing but a good time\, and it don’t get better than this.
URL:https://bamaslamsaloon.com/event/velcro-pygmies-at-bama-slam-11-04/
LOCATION:Bama Slam\, 567 County Road 156\, New Brockton\, Alabama\, 36351
ATTACH;FMTTYPE=image/png:https://bamaslamsaloon.com/wp-content/uploads/2022/10/Red-Abstract-Extreme-Sport-Skydive-Instagram-Post-11.png
END:VEVENT
BEGIN:VEVENT
DTSTART;VALUE=DATE:20221112
DTEND;VALUE=DATE:20221113
DTSTAMP:20260419T093247
CREATED:20220822T142226Z
LAST-MODIFIED:20221107T180956Z
UID:3862-1668211200-1668297599@bamaslamsaloon.com
SUMMARY:Frank Foster Veteran's Day Weekend at Bama Slam
DESCRIPTION:Mitchell Automotive welcomes back Country music singer-songwriter\, Frank Foster at the Bama Slam Saloon on Saturday\, November 12th. \nCLICK HERE FOR TICKETS\nRowdy Friends Band starts at 7:30pm\nFrank Foster show kicks off at 9:00pm\nFrank Foster embodies musical independence at its highest level. He not only has taken the road less traveled\, but the road almost never traveled. Acting as his own record label\, management\, booking agency and publishing company\, he has managed to find success that some major label artist may never find. This rural Louisiana native and former oilfield man has taken his songs from the campfire to the coliseum seemingly overnight\, all the while gaining a following of fans whose loyalty is unmatched. \nHis musical journey started in 2011 with the release of his first album “Rowdy Reputation”. To follow that up\, in the late summer of 2012\, he released his second album “Red Wings and Six Strings” which debuted at #30 on the Billboard Country Charts and #1 on Billboard’s South Central U.S. Heat Seeker’s chart. Foster’s next five albums also all debuted on the Billboard Country Charts. Southern Soul was released in 2013 debuting at #11. Rhythm and Whiskey was released in 2014 debuted at #4. His early 2016 release\, Boots On The Ground\, debuted at #7. Later in 2016\, he released Good Country Music\, which debuted at #13. In 2018\, he released his seventh album\, ’Til I’m Gone\, which debuted at #2 on the Billboard Country Album Sales Charts giving Foster his highest mark yet. He’s a singer\, a songwriter and his own boss. He refuses to let anyone water down his kind of country music. If he lives it\, he writes it; if he writes it\, he sings it; if he sings it\, he believes it. Frank Foster … a true original \nNeed a place to crash?! We’ve got The Bama Slam RV Park & Campground ready for you! Click the link below to book: \nhttps://www.campspot.com/book/bamaslamsaloon \nCLICK HERE FOR TICKETS
URL:https://bamaslamsaloon.com/event/frank-foster-veterans-day-weekend-at-bama-slam/
LOCATION:Bama Slam\, 567 County Road 156\, New Brockton\, Alabama\, 36351
ATTACH;FMTTYPE=application/pdf:https://bamaslamsaloon.com/wp-content/uploads/2022/08/frank-foster-website.pdf
END:VEVENT
BEGIN:VEVENT
DTSTART;TZID=America/Chicago:20221118T170000
DTEND;TZID=America/Chicago:20221119T020000
DTSTAMP:20260419T093247
CREATED:20220914T170443Z
LAST-MODIFIED:20220914T170652Z
UID:4003-1668790800-1668823200@bamaslamsaloon.com
SUMMARY:Midlife Crisis at Bama Slam
DESCRIPTION:Mitchell Automotive Group welcomes Midlife Crisis to the Bama Slam Saloon on Friday\, November 18th. \nDoors open at the Bama Slam Saloon at 5:00pm\nHappy Hour starts from 5:00pm-7:00pm\nShow starts at 9:00pm \nMidLife Crisis has been bringing their high energy\, good-time 90’s rock music to audiences in the southeast since 2015. Hailed as “The Premier 90’s rock and alternative band in the Southeast\,” MidLife Crisis has its roots planted firmly in the music you remember and love from the early\, mid and late 90’s covering bands such as Stone Temple Pilots\, Foo Fighters\, Nirvana\, Cake\, Smashing Pumpkins and Bush. \nThe band’s captivating\, high-energy performances transport audiences back in time as MidLife Crisis blends musicianship and creativity to bring you back to the days of your CD book in the front seat of your car! They’re a “bottomless pit of musical ear candy” in the words of one fan. People have said time and time again that they loved dancing\, singing along and even crowd surfing a time or two with the guys of MLC! This is a band that knows how to entertain. \nAudience members have described MidLife Crisis as “excellent musicianship combined with entertaining showmanship\,” “hard hitting music with all the lyrics you remember and that makes people want to sing along\,” “high energy with a feel-good vibe\,” and “lots of fun.” Every performer in the band exudes a love of music. \nIt’s not unusual for the unusual to happen at MidLife Crisis performance. You never know when they’ll bust out into one of your favorite songs from the 90’s or have special guest musicians that will hop up on stage and jam with them! If you’re looking for a good time this is your band!
URL:https://bamaslamsaloon.com/event/midlife-crisis-at-bama-slam/
LOCATION:Bama Slam\, 567 County Road 156\, New Brockton\, Alabama\, 36351
ATTACH;FMTTYPE=application/pdf:https://bamaslamsaloon.com/wp-content/uploads/2022/09/midlife-new-.pdf
END:VEVENT
BEGIN:VEVENT
DTSTART;TZID=America/Chicago:20221230T080000
DTEND;TZID=America/Chicago:20230101T180000
DTSTAMP:20260419T093247
CREATED:20221118T174101Z
LAST-MODIFIED:20221228T054742Z
UID:4233-1672387200-1672596000@bamaslamsaloon.com
SUMMARY:2023 New Year's Eve Bash
DESCRIPTION:It’s going to be a New Year’s Eve Weekend to remember! Say goodbye to 2022 and say hello to 2023 with us\, Bama Slam Style! We’ve got concerts at the Bama Slam Saloon on Friday and Saturday night! \nFriday\, December 30th we’re kicking the saloon concerts with Rock & Country music! Starting at 7:30pm we have Atomic Subculture warming up the stage. Later on in the evening we have Hunter Clark Band hitting the stage at 9:00pm. \nClICK HERE TO PURCHASE TICKETS \nSaturday\, December 31st! New Year’s Eve will be one for the books as we celebrate our Anniversary! Kicking off the show\, we’ve got Hunter Clark at 7:30pm! Mitchell Automotive Group welcomes to the stage\, Country Music Artist\, MEGAN MORONEY at 9:00pm. It doesn’t stop there\, closing out the show till midnight with Country Music Artist\, Warren Zeiders at 10:30pm. \nOff Road Trails will be open for access ALL WEEKEND LONG!\nIt’s not New Year’s Eve unless there’s have FIREWORKS!\nJoin us as we light up the night over Bama Slam Lake with our Midnight Fireworks Show! \nNeed a place to crash?! Join us over at our RV Park/Campground for the weekend! We’ve got spots available but hurry! These won’t last long as they always SELL OUT for NYE! \nCLICK HERE TO BUY TICKETS  \n  \n  \nSCHEDULE: \nFriday\, December 30th\n          5:00 pm Doors open\n5:30 pm-7:30 pm Happy Hour\n7:30 pm Atomic Subculture\n9:00 pm Hunter Clark Band \nSaturday\, December 31st\n          11:00 am Doors open\n5:30pm-7:30 pm Happy Hour\n7:30 pm Hunter Clark\n9 pm Megan Moroney\n10:30pm Warren Zeiders\n12:00am Bama Slam Midnight Fireworks Show
URL:https://bamaslamsaloon.com/event/2023-new-years-eve-bash/
ATTACH;FMTTYPE=image/jpeg:https://bamaslamsaloon.com/wp-content/uploads/2022/11/BamaSlam_AllArtist-NYE-copy.jpeg
END:VEVENT
BEGIN:VEVENT
DTSTART;TZID=America/Chicago:20230120T080000
DTEND;TZID=America/Chicago:20230120T170000
DTSTAMP:20260419T093247
CREATED:20230120T165006Z
LAST-MODIFIED:20230120T183707Z
UID:4353-1674201600-1674234000@bamaslamsaloon.com
SUMMARY:Today's Yesterday Band at Bama Slam
DESCRIPTION:Today’s Yesterday Band at Bama Slam on Saturday\, February  4\, 2023! Doors open at the Bama Slam Saloon at 5:00pm. Our restaurant will be serving food and our bar will have drink specials! Happy Hour starts from 5:00pm – 7:00pm. \nJoin us for a night of live music kicking off at 7:00pm with Today’s Yesterday Band and House Music with Slxxpy Head starting at 10:00pm.  \nWe offer on-site showers and bathrooms\, delicious food and full-service drinks\, the premier ATV and SxS park\, and more! Once you get to Bama Slam\, you will never want to leave! This event is presented by Mitchell Automotive Group.
URL:https://bamaslamsaloon.com/event/todays-yesterday-band-at-bama-slam/
ATTACH;FMTTYPE=image/png:https://bamaslamsaloon.com/wp-content/uploads/2023/01/TYB-Event-Post-1-.png
END:VEVENT
BEGIN:VEVENT
DTSTART;TZID=America/Chicago:20230204T170000
DTEND;TZID=America/Chicago:20230204T233000
DTSTAMP:20260419T093247
CREATED:20230121T151908Z
LAST-MODIFIED:20230121T151946Z
UID:4356-1675530000-1675553400@bamaslamsaloon.com
SUMMARY:Today's Yesterday Band at Bama Slam
DESCRIPTION:Today’s Yesterday Band at Bama Slam on Saturday\, February  4\, 2023! Doors open at the Bama Slam Saloon at 5:00pm. Our restaurant will be serving food and our bar will have drink specials! Happy Hour starts from 5:00pm – 7:00pm. \nJoin us for a night of live music kicking off at 7:00pm with Today’s Yesterday Band and House Music with Slxxpy Head starting at 10:00pm.  \nWe offer on-site showers and bathrooms\, delicious food and full-service drinks\, the premier ATV and SxS park\, and more! Once you get to Bama Slam\, you will never want to leave! This event is presented by Mitchell Automotive Group.
URL:https://bamaslamsaloon.com/event/todays-yesterday-band-at-bama-slam-2/
ATTACH;FMTTYPE=image/png:https://bamaslamsaloon.com/wp-content/uploads/2023/01/TYB-Event-Post-1-.png
END:VEVENT
BEGIN:VEVENT
DTSTART;TZID=America/Chicago:20230317T190000
DTEND;TZID=America/Chicago:20230318T020000
DTSTAMP:20260419T093247
CREATED:20230217T172221Z
LAST-MODIFIED:20230217T183715Z
UID:4404-1679079600-1679104800@bamaslamsaloon.com
SUMMARY:St. Patrick's Day with The Velcro Pygmies
DESCRIPTION:CLICK HERE FOR TICKETS\nLet the shenanigans 𝐁𝐄𝐆𝐈𝐍!\n☘️☘️ 𝑺𝒕. 𝑷𝒂𝒕𝒓𝒊𝒄𝒌’𝒔 𝑫𝒂𝒚 | 𝑴𝒂𝒓𝒄𝒉 17𝒕𝒉\nGet ready rock the night out with the World Famous The Velcro Pygmies!! Doors open at 7:00pm and live music starts at 9:00pm.\nThe Velcro Pygmies knows exactly how to entertain the crowd and sure enough — 𝐓𝐇𝐑𝐎𝐖 𝐀 𝐏𝐀𝐑𝐓𝐘!! We promise you don’t want to miss this show!\nWe offer on-site showers and bathrooms\, delicious food and full-service drinks\, the premier ATV and SxS park\, and more! Once you get to Bama Slam\, you will never want to leave! This event is presented by Mitchell Automotive Group.\nLocated at 567 County Road 156\, New Brockton\, AL 36351 \n \n 
URL:https://bamaslamsaloon.com/event/st-patricks-day-with-the-velcro-pygmies/
END:VEVENT
BEGIN:VEVENT
DTSTART;TZID=America/Chicago:20230318T180000
DTEND;TZID=America/Chicago:20230318T233000
DTSTAMP:20260419T093247
CREATED:20230312T172808Z
LAST-MODIFIED:20230312T172808Z
UID:4447-1679162400-1679182200@bamaslamsaloon.com
SUMMARY:St. Patty's After Party at Bama Slam
DESCRIPTION:St. Patty’s After Party\nHosted by Zach & Karson\n\nWe’re about to bring the party on Saturday\, March 18th at the SLAM! Get ready for the St. Patty’s Day After Party hosted by Zach and Karson! Bringing the heat on the turn tables is our House DJ Slxxpy Head! He’ll have you on the dance floor all night long! \n18+ ONLY EVENT\nMust be able to provide a valid ID\nDoors open at 6:00PM\nWelcoming the Enterprise St. Paddy’s Pub Crawl to the Saloon\nLIVE MUSIC with Hunter Clark at 7:00PM\nST. PATTY’S AFTER PARTY KICKS OFF AT 9PM\nFREE COVER BEFORE 9PM \n 
URL:https://bamaslamsaloon.com/event/st-pattys-after-party-at-bama-slam/
END:VEVENT
BEGIN:VEVENT
DTSTART;TZID=America/Chicago:20230407T180000
DTEND;TZID=America/Chicago:20230408T020000
DTSTAMP:20260419T093247
CREATED:20230312T173620Z
LAST-MODIFIED:20230312T173634Z
UID:4455-1680890400-1680919200@bamaslamsaloon.com
SUMMARY:The Rock Mob at Bama Slam
DESCRIPTION:Mitchell Automotive welcomes The Rock Mob at Bama Slam on Friday\, April 7th\, 2023!\nMORE DETAILS TO COME! \nTHE ROCK MOB\, southeast’s fan favorite pays tribute to the best decades of rock music covers!The band performs the very best in rock hits from AC/DC\, Aerosmith\, Journey\, Bon Jovi\, Van Halen\, Def Leppard\, and many more rock legends. If it was a huge hit in the 70’s\, 80’s or even featured on Stranger Things\, the band probably performs it and more. \nWe offer on-site showers and bathrooms\, delicious food and full-service drinks\, the premier ATV and SxS park\, and more! Once you get to Bama Slam\, you will never want to leave! This event is presented by Mitchell Automotive Group.
URL:https://bamaslamsaloon.com/event/4455/
END:VEVENT
BEGIN:VEVENT
DTSTART;TZID=America/Chicago:20230414T170000
DTEND;TZID=America/Chicago:20230416T170000
DTSTAMP:20260419T093247
CREATED:20230323T161817Z
LAST-MODIFIED:20230323T161817Z
UID:4485-1681491600-1681664400@bamaslamsaloon.com
SUMMARY:Darryl Worley Weekend at Bama Slam
DESCRIPTION:Mitchell Automotive presents a Darryl Worley Weekend at Bama Slam!\n\n“The 40th Anniversary of the Aviation Branch: Honoring the Past and Transforming for the Future” – Bama Slam invites you and all Military ( Active duty or Retired ) to help us celebrate on Friday\, April 14th as “Ft. Rucker Appreciation Night”. We want to recognize the recent name change of Ft. Rucker to Ft. Novesel.\nWhat better guest to have involved than the man himself. Country Music Artist\, Darryl Worley as he performs a special “Military Appreciation Show”!! Hunter Clark will be opening the show at 7:00pm and Darryl Worley hits the stage at 9:00pm! ALL MILITARY\, ACTIVE DUTY OR RETIRED ENTER IN FREE! \nThe Weekend doesn’t stop there yall! Get ready for a treat on Saturday\, April 15th as we dig back to the roots of Country music!!  Darryl Worley will be performing his “Honky Tonky Tribute”. — And let us tell yall!!! Ain’t no Honky Tonk\, like a Darryl Worley Honky Tonk!! \nHunter Clark hits the stage at 7:00pm and the “HONKY TONK SPECIAL” kicks off at 9:00pm. \n\nCLICK HERE FOR TICKETS \nOFF ROAD TRAILS WILL BE OPEN THE ENTIRE WEEKEND  \nWATERPARK WILL BE OPEN ON SATURDAY & SUNDAY
URL:https://bamaslamsaloon.com/event/darryl-worley-weekend-at-bama-slam/
LOCATION:Bama Slam\, 567 County Road 156\, New Brockton\, Alabama\, 36351
END:VEVENT
BEGIN:VEVENT
DTSTART;TZID=America/Chicago:20230415T100000
DTEND;TZID=America/Chicago:20230415T180000
DTSTAMP:20260419T093247
CREATED:20230331T142602Z
LAST-MODIFIED:20230331T142602Z
UID:4468-1681552800-1681581600@bamaslamsaloon.com
SUMMARY:Opening Day for the Swimming Hole
DESCRIPTION:It’s opening day at the Swimming Hole! \n  \n  \n  \n  \n 
URL:https://bamaslamsaloon.com/event/opening-day-for-the-swimming-hole/
LOCATION:Bama Slam\, 567 County Road 156\, New Brockton\, Alabama\, 36351
END:VEVENT
BEGIN:VEVENT
DTSTART;TZID=America/Chicago:20230422T170000
DTEND;TZID=America/Chicago:20230422T233000
DTSTAMP:20260419T093247
CREATED:20230326T230044Z
LAST-MODIFIED:20230326T213551Z
UID:4490-1682182800-1682206200@bamaslamsaloon.com
SUMMARY:Chase McDaniel at Bama Slam
DESCRIPTION:𝑺𝑨𝑻𝑼𝑹𝑫𝑨𝒀\, 𝑨𝑷𝑹𝑰𝑳 22𝑵𝑫 ☀️☀️ \nMitchell Automotive welcomes Chase McDaniel at Bama Slam! This Rising country singer and songwriter broke out of Nashville in 2022. His song\, “Project” debuted at NO.1 on the iTunes Country Chart and later reached NO.1 on the Billboard Country Digital Song Sales Chart. Get ready to grab your boots and dance the night away! You don’t want to miss this show!! Doors open at 5PM!  \n👇🏼👇🏼 𝐆𝐑𝐀𝐁 𝐘𝐎𝐔𝐑 𝐓𝐈𝐂𝐊𝐄𝐓𝐒 𝐓𝐎𝐃𝐀𝐘!  \nhttps://app.promotix.com/events/details/Chase-McDaniel-at-Bama-Slam-tickets \nDon’t forget what all Bama Slam has to offer: the waterpark\, beautiful lake views with white beach sand and palm trees\, on-site showers and bathrooms\, delicious food and full-service drinks\, the premier ATV and SxS park\, and more! Once you get to Bama Slam\, you will never want to leave! Prices will go up so save your money by purchasing tickets now!
URL:https://bamaslamsaloon.com/event/chase-mcdaniel-at-bama-slam/
END:VEVENT
BEGIN:VEVENT
DTSTART;VALUE=DATE:20230505
DTEND;VALUE=DATE:20230508
DTSTAMP:20260419T093247
CREATED:20221228T053943Z
LAST-MODIFIED:20221228T072731Z
UID:4305-1683244800-1683503999@bamaslamsaloon.com
SUMMARY:Sol Fest Music and Arts Festival
DESCRIPTION:SOL FEST RETURNS FOR AN EXPLOSIVE YEAR AT BAMA SLAM MAY 5TH-7TH 2023!\nSol Fest returns to Bama Slam Campground and Waterpark featuring 3+ Stages and 50+ EDM Artists + More! Step into an illuminating world with premier production. Uplift your spirit with morning healing workshops like yoga\, ecstatic dance\, and meditation. Splash at the waterpark wonderland with beach sand\, palm trees\, zip-lines and waterslides while DJs throw down on stage! Enjoy panoramic lake views with an inflatable obstacle course\, beach with volleyball court\, and holographic water screen light shows. Witness art come to life in a mind-altering wonderland with flow performers\, atmospheric lighting\, immersive live and digital art\, and interactive installations. VIP and premier camping options available!
URL:https://bamaslamsaloon.com/event/sol-fest-music-and-arts-festival-23/
LOCATION:Bama Slam\, 567 County Road 156\, New Brockton\, Alabama\, 36351
END:VEVENT
BEGIN:VEVENT
DTSTART;TZID=America/Chicago:20230520T190000
DTEND;TZID=America/Chicago:20230521T020000
DTSTAMP:20260419T093247
CREATED:20230425T195620Z
LAST-MODIFIED:20230425T195620Z
UID:4592-1684609200-1684634400@bamaslamsaloon.com
SUMMARY:Glow Party with Dj Slim Sadie ft. Dj Tev
DESCRIPTION:Mitchell Automotive welcomes Dj Slim Sadie featuring Dj Tev at Bama Slam on Saturday\, May 20th.\nGet ready for Bama Slam’s first Glow Party. Entry starts at 7PM. Show starts at 9PM.\nWe’re dancing under the neon lights to Today’s Top 40 Hits format. Grab your friends and make it a night with us here at Bama Slam.\n$10 Entry! Click here or purchase at the door. 18 + ONLY EVENT. \nDon’t forget what all Bama Slam has to offer: the waterpark\, beautiful lake views with white beach sand and palm trees\, on-site showers and bathrooms\, delicious food and full-service drinks\, the premier ATV and SxS park\, and more! Once you get to Bama Slam\, you will never want to leave!
URL:https://bamaslamsaloon.com/event/glow-party-with-dj-slim-sadie-ft-dj-tev/
LOCATION:Bama Slam\, 567 County Road 156\, New Brockton\, Alabama\, 36351
END:VEVENT
BEGIN:VEVENT
DTSTART;VALUE=DATE:20230526
DTEND;VALUE=DATE:20230530
DTSTAMP:20260419T093247
CREATED:20230410T170706Z
LAST-MODIFIED:20230522T171027Z
UID:4545-1685059200-1685404799@bamaslamsaloon.com
SUMMARY:Memorial Day Weekend Party
DESCRIPTION:CLICK HERE TO BUY TICKETS \nWe told y’all we’re bringing the THUNDER! Get ready for a 4 DAY MINI FESTIVAL! We’re kicking off the 𝐌𝐞𝐦𝐨𝐫𝐢𝐚𝐥 𝐖𝐞𝐞𝐤𝐞𝐧𝐝 𝐏𝐚𝐫𝐭𝐲 at ☀️☀️ Bama Slam ( May 26th – May 29th ) Jamming’ out for the weekend on our outside Beach Stage we’ve got Rodney Atkins\, Maddie & Tae\, The Cadillac Three\, Bryan Martin\, Alana Springsteen\, Tanner Usrey\, and Hunter Clark! \nWe will have an all day “Beach Darty” at the Swimming hole with DJ Slxxpy Head in the mix the entire weekend!! \nVendors will include food\, merch\, and art for the weekend! \nCLICK HERE TO BUY TICKETS \n💥 Belly Flop competitions on both Saturday and Sunday $500 in payouts\n💥 “Slam Warrior” Competitions on Slam Island in the Swimming Hole \n‼️ SWIMMING HOLE AND MUD PARK OPEN THE ENTIRE WEEKEND! \n𝐓𝐇𝐀𝐍𝐊 𝐘𝐎𝐔 𝐌𝐈𝐓𝐂𝐇𝐄𝐋𝐋 𝐀𝐔𝐓𝐎𝐌𝐎𝐓𝐈𝐕𝐄 𝐆𝐑𝐎𝐔𝐏!!
URL:https://bamaslamsaloon.com/event/memorial-day-weekend-party/
END:VEVENT
BEGIN:VEVENT
DTSTART;VALUE=DATE:20230603
DTEND;VALUE=DATE:20230605
DTSTAMP:20260419T093247
CREATED:20230331T135617Z
LAST-MODIFIED:20230331T135617Z
UID:4515-1685750400-1685923199@bamaslamsaloon.com
SUMMARY:Outboard Drag Boat Racing with SODA
DESCRIPTION:Mark your calendars for this two-day event of Outboard Drag Boat Racing with SODA. More details to come…
URL:https://bamaslamsaloon.com/event/outboard-drag-boat-racing-with-soda/
LOCATION:Bama Slam\, 567 County Road 156\, New Brockton\, Alabama\, 36351
END:VEVENT
BEGIN:VEVENT
DTSTART;TZID=America/Chicago:20230623T190000
DTEND;TZID=America/Chicago:20230624T000000
DTSTAMP:20260419T093247
CREATED:20230619T172534Z
LAST-MODIFIED:20230619T172534Z
UID:4731-1687546800-1687564800@bamaslamsaloon.com
SUMMARY:Frank Fletcher at Bama Slam
DESCRIPTION:Mitchell Automotive welcomes Frank Fletcher at Bama Slam on Friday\, June 23rd!!\n\n~ Live Entertainment ~\nJoin us for Frank Fletcher’s “Release Party” for his NEW single\, “Rollin”!!\nShow starts at 8PM >> More details TBA!!! \n\nFriday\, June 23rd:\n9AM-7PM General Store\n10AM-6PM Swimming Hole\n2PM-6PM Happy Hour\n8PM-12AM Frank Fletcher “Release Party”!! \n\nSaturday\, June 24th:\n9AM-7PM General Store\n10AM-6PM Swimming Hole\n2Pm-3PM Slam Warrior Registration\n3PM Slam Warrior Competition\n2PM-6PM Happy Hour \n\nSunday\, June 25th:\n9AM-7PM General Store\n10AM-6PM Swimming Hole\n2Pm-3PM Slam Warrior Registration\n3PM Slam Warrior Competition\n2PM-6PM Happy Hour\n\n\nWe offer on-site showers and bathrooms\, delicious food and full-service drinks\, the Swimming Hole\, the ATV Park and more! Once you get to Bama Slam\, you will never want to leave!
URL:https://bamaslamsaloon.com/event/frank-fletcher-at-bama-slam/
END:VEVENT
BEGIN:VEVENT
DTSTART;TZID=America/Chicago:20230630T080000
DTEND;TZID=America/Chicago:20230704T180000
DTSTAMP:20260419T093247
CREATED:20230622T145353Z
LAST-MODIFIED:20230622T175403Z
UID:4746-1688112000-1688493600@bamaslamsaloon.com
SUMMARY:Great American Weekend
DESCRIPTION:CLICK HERE FOR TICKETS! \nMitchell Automotive Group welcomes The Great American Weekend!! Get ready to gather the FAMILY as we celebrate INDEPENDENCE Day\, ALL WEEKEND LONG! Festivities include live music\, the Swimming Hole\, ATV Off Road Trails and SO MUCH MORE!!\nThe Swimming Hole has been a top source of entertainment in the Tri-state area for many years. What started as a local hang-out\, has since turned into a leading Water Park where families and friends meet to enjoy and make new memories.\n\nWhether you are looking for all the amenities a full hookup site can offer\, or maybe Primitive Camping is your style\, we have something for everyone at the Bama Slam RV Park & Campground \nCLICK HERE FOR TICKETS! \n\n\nFriday\, June 30th:\n8AM General Store and Gates open\n10AM-6PM Swimming Hole\n9PM LIVE music with Darrell Qualls and The Outlaws\nSaturday\, July 1st:\n8AM General Store and Gates open\n10AM-6PM Swimming Hole\n2PM-3PM Slam Warrior Competition Registration\n3PM Slam Warrior Competition\n9PM LIVE music with Hunter Clark\nSunday\, July 2nd:\n8AM General Store and Gates open\n10AM-6PM Swimming Hole\nMonday\, July 3rd:\n10AM-6PM Swimming Hole\nTuesday\, July 4th:\n10AM-6PM Swimming Hole\n\nWe offer on-site showers and bathrooms\, delicious food and full-service drinks\, the Swimming Hole\, the ATV Park and more! Once you get to Bama Slam\, you will never want to leave!
URL:https://bamaslamsaloon.com/event/4746/
END:VEVENT
BEGIN:VEVENT
DTSTART;VALUE=DATE:20230715
DTEND;VALUE=DATE:20230716
DTSTAMP:20260419T093247
CREATED:20230331T135947Z
LAST-MODIFIED:20230331T135947Z
UID:4522-1689379200-1689465599@bamaslamsaloon.com
SUMMARY:Farm Fit Mud Run & Obstacle Course
DESCRIPTION:
URL:https://bamaslamsaloon.com/event/farm-fit-mud-run-obstacle-course/
LOCATION:Bama Slam\, 567 County Road 156\, New Brockton\, Alabama\, 36351
END:VEVENT
END:VCALENDAR