BEGIN:VCALENDAR
VERSION:2.0
PRODID:-//Bama Slam - ECPv6.0.6.2//NONSGML v1.0//EN
CALSCALE:GREGORIAN
METHOD:PUBLISH
X-WR-CALNAME:Bama Slam
X-ORIGINAL-URL:https://bamaslamsaloon.com
X-WR-CALDESC:Events for Bama Slam
REFRESH-INTERVAL;VALUE=DURATION:PT1H
X-Robots-Tag:noindex
X-PUBLISHED-TTL:PT1H
BEGIN:VTIMEZONE
TZID:America/Chicago
BEGIN:DAYLIGHT
TZOFFSETFROM:-0600
TZOFFSETTO:-0500
TZNAME:CDT
DTSTART:20220313T080000
END:DAYLIGHT
BEGIN:STANDARD
TZOFFSETFROM:-0500
TZOFFSETTO:-0600
TZNAME:CST
DTSTART:20221106T070000
END:STANDARD
END:VTIMEZONE
BEGIN:VEVENT
DTSTART;VALUE=DATE:20220701
DTEND;VALUE=DATE:20220705
DTSTAMP:20260419T162549
CREATED:20220612T160212Z
LAST-MODIFIED:20220629T062556Z
UID:3119-1656633600-1656979199@bamaslamsaloon.com
SUMMARY:The Great American Weekend: Fireworks\, Adam Doleac\, & Corey Smith
DESCRIPTION:The Great American Weekend is going to be an experience like no other at Bama Slam with “Cash in the Mud” on the off-road trails with $2\,000 in payouts\, party at the waterpark with waterslides\, rope swing\, zip lines\, and a $500 Belly Flop Competition\, banana boat rides\, FIREWORKS with Adam Doleac playing on Friday\, and Corey Smith playing Saturday! Weekend passes available now! This event is rain or shine. Tickets are non-refundable.  \n \n \nCountry Music Artist Corey Smith: Headliner\, Saturday\, July 2nd at 9:30 P.M. Corey Smith\, the fan-made man\, has sold over 1 million concert tickets\, 1.5 million digital singles and over 220\,000 albums.  corey’s spotify channel has amassed over 5.76 million listeners with more than 73 million streams and is currently averaging over 1.13 million streams each month.Smith has amassed an unfailingly devout fan base\, not only in his native Southeast region\, but all around the nation\, simply by telling it the way it is.  He has released 10 albums—including 2011’s Top 20 release “The Broken Record”.  Corey has written every word on every album and has produced 9 out of 10 of the records. In Summer 2015\, Corey teamed up with producer Keith Stegall (Alan Jackson\, Zac Brown Band) for his album\, “While the Gettin’ Is Good\,” released on Sugar Hill Records.  Smith’s concerts\, which were documented on his last live record\, “Live in Chattanooga”\, regularly sell out\, with audiences singing along to such fan favorites as the coming-of-age anthem “Twenty-One\,” the nostalgic time warp “If I Could Do It Again” and the group hug “I Love Everyone”.
URL:https://bamaslamsaloon.com/event/the-great-american-weekend/
LOCATION:Bama Slam\, 567 County Road 156\, New Brockton\, Alabama\, 36351
ATTACH;FMTTYPE=image/jpeg:https://bamaslamsaloon.com/wp-content/uploads/2022/06/289764694_794989965244545_1904091699164787792_n.jpeg
END:VEVENT
BEGIN:VEVENT
DTSTART;VALUE=DATE:20220722
DTEND;VALUE=DATE:20220725
DTSTAMP:20260419T162549
CREATED:20220705T174641Z
LAST-MODIFIED:20220721T050348Z
UID:3308-1658448000-1658707199@bamaslamsaloon.com
SUMMARY:Bama Slam Summer Fest
DESCRIPTION:BAMA SLAM SUMMER FEST 🇺🇸 \n🏁Friday\, July 22nd \n9:00 AM Breakfast at the Saloon\n10:00 AM Swimming Hole\, Bama Slam Saloon & Restaurant\n6:00 PM Catfish Jug Fishing (8 AM Saturday Weigh-In) \n6:30 PM Dirt Drag Races $10k payout ($50 registration) \n9:30 PM Hunter Clark\n11:00 PM Darryl Worley \n🎣Saturday\, July 23rd \n6:00 AM Fishing Tournament $5K\n9:00 AM Breakfast at the Saloon\n10:00 AM Swimming Hole\, Bama Slam Saloon & Restaurant\n11:00 AM $5K Cash in the Mud registration\n12:00 PM Cash in the Mud start\n1:00 PM Volleyball games\n5:00 PM Bellyflop Competition \n7:00 PM Heyward and Shackelford Outdoor Concert Begins \nSunday\, July 24th \n6:00 AM-4 PM Fishing Tournament ($5K) \n9:00 AM Breakfast at the Saloon\n10:00 AM Swimming Hole\, Bama Slam Saloon\, & Restaurant Opens \n  \nRegister online to secure your spot! \nChildren 4 and under are free.
URL:https://bamaslamsaloon.com/event/summerfest-2/
LOCATION:Bama Slam\, 567 County Road 156\, New Brockton\, Alabama\, 36351
ATTACH;FMTTYPE=image/jpeg:https://bamaslamsaloon.com/wp-content/uploads/2022/07/BS_Summer-Fest-FlyerShort.jpeg
END:VEVENT
BEGIN:VEVENT
DTSTART;TZID=America/Chicago:20220726T080000
DTEND;TZID=America/Chicago:20220726T170000
DTSTAMP:20260419T162549
CREATED:20220727T041002Z
LAST-MODIFIED:20220821T174850Z
UID:3723-1658822400-1658854800@bamaslamsaloon.com
SUMMARY:August 19-21st Event Hooptie and Redbull Mini Moto Race
DESCRIPTION:CLICK HERE FOR TICKETS\n— August 19-21 Weekend Schedule \nFriday\, August 19th: \nWaterpark and Saloon open \nSaturday\, August 20th: \n8:00 AM: Gates Open \n9:30 AM: Drivers Meeting and National Anthem \n10:00 AM: Hooptie Race (Registration & Info Link: https://bamaslamsaloon.com/bama-slam-hooptie-race-rule-and-registration-aug-20-2022/ \n10:00 AM: Waterpark\, Slam Island\, Bama Slam Saloon & Restaurant Open \n1:00pm: Red Bull & Wings Event (Registration & Info Link: https://bamaslamsaloon.com/redbull-mini-moto-races-at-bama-slam-8-20-22/ \n8:00pm: Live Entertainment in the Saloon Begins: The Rock Mob & Martin Mcdaniel \nSunday\, September 5th: \n10:00am: Waterpark\, Slam Island\, Bama Slam Saloon & Restaurant Open \n 
URL:https://bamaslamsaloon.com/event/august-19-21st-event-hooptie-and-redbull-mini-moto-race-2/
ATTACH;FMTTYPE=image/jpeg:https://bamaslamsaloon.com/wp-content/uploads/2022/07/AugustHooptieRedBullRaceFBCover.jpeg
END:VEVENT
END:VCALENDAR