BEGIN:VCALENDAR
VERSION:2.0
PRODID:-//Bama Slam - ECPv6.0.6.2//NONSGML v1.0//EN
CALSCALE:GREGORIAN
METHOD:PUBLISH
X-WR-CALNAME:Bama Slam
X-ORIGINAL-URL:https://bamaslamsaloon.com
X-WR-CALDESC:Events for Bama Slam
REFRESH-INTERVAL;VALUE=DURATION:PT1H
X-Robots-Tag:noindex
X-PUBLISHED-TTL:PT1H
BEGIN:VTIMEZONE
TZID:America/Chicago
BEGIN:DAYLIGHT
TZOFFSETFROM:-0600
TZOFFSETTO:-0500
TZNAME:CDT
DTSTART:20220313T080000
END:DAYLIGHT
BEGIN:STANDARD
TZOFFSETFROM:-0500
TZOFFSETTO:-0600
TZNAME:CST
DTSTART:20221106T070000
END:STANDARD
BEGIN:DAYLIGHT
TZOFFSETFROM:-0600
TZOFFSETTO:-0500
TZNAME:CDT
DTSTART:20230312T080000
END:DAYLIGHT
BEGIN:STANDARD
TZOFFSETFROM:-0500
TZOFFSETTO:-0600
TZNAME:CST
DTSTART:20231105T070000
END:STANDARD
END:VTIMEZONE
BEGIN:VEVENT
DTSTART;TZID=America/Chicago:20221230T080000
DTEND;TZID=America/Chicago:20230101T180000
DTSTAMP:20260419T092819
CREATED:20221118T174101Z
LAST-MODIFIED:20221228T054742Z
UID:4233-1672387200-1672596000@bamaslamsaloon.com
SUMMARY:2023 New Year's Eve Bash
DESCRIPTION:It’s going to be a New Year’s Eve Weekend to remember! Say goodbye to 2022 and say hello to 2023 with us\, Bama Slam Style! We’ve got concerts at the Bama Slam Saloon on Friday and Saturday night! \nFriday\, December 30th we’re kicking the saloon concerts with Rock & Country music! Starting at 7:30pm we have Atomic Subculture warming up the stage. Later on in the evening we have Hunter Clark Band hitting the stage at 9:00pm. \nClICK HERE TO PURCHASE TICKETS \nSaturday\, December 31st! New Year’s Eve will be one for the books as we celebrate our Anniversary! Kicking off the show\, we’ve got Hunter Clark at 7:30pm! Mitchell Automotive Group welcomes to the stage\, Country Music Artist\, MEGAN MORONEY at 9:00pm. It doesn’t stop there\, closing out the show till midnight with Country Music Artist\, Warren Zeiders at 10:30pm. \nOff Road Trails will be open for access ALL WEEKEND LONG!\nIt’s not New Year’s Eve unless there’s have FIREWORKS!\nJoin us as we light up the night over Bama Slam Lake with our Midnight Fireworks Show! \nNeed a place to crash?! Join us over at our RV Park/Campground for the weekend! We’ve got spots available but hurry! These won’t last long as they always SELL OUT for NYE! \nCLICK HERE TO BUY TICKETS  \n  \n  \nSCHEDULE: \nFriday\, December 30th\n          5:00 pm Doors open\n5:30 pm-7:30 pm Happy Hour\n7:30 pm Atomic Subculture\n9:00 pm Hunter Clark Band \nSaturday\, December 31st\n          11:00 am Doors open\n5:30pm-7:30 pm Happy Hour\n7:30 pm Hunter Clark\n9 pm Megan Moroney\n10:30pm Warren Zeiders\n12:00am Bama Slam Midnight Fireworks Show
URL:https://bamaslamsaloon.com/event/2023-new-years-eve-bash/
ATTACH;FMTTYPE=image/jpeg:https://bamaslamsaloon.com/wp-content/uploads/2022/11/BamaSlam_AllArtist-NYE-copy.jpeg
END:VEVENT
END:VCALENDAR