BEGIN:VCALENDAR
VERSION:2.0
PRODID:-//Bama Slam - ECPv6.0.6.2//NONSGML v1.0//EN
CALSCALE:GREGORIAN
METHOD:PUBLISH
X-ORIGINAL-URL:https://bamaslamsaloon.com
X-WR-CALDESC:Events for Bama Slam
REFRESH-INTERVAL;VALUE=DURATION:PT1H
X-Robots-Tag:noindex
X-PUBLISHED-TTL:PT1H
BEGIN:VTIMEZONE
TZID:America/Chicago
BEGIN:DAYLIGHT
TZOFFSETFROM:-0600
TZOFFSETTO:-0500
TZNAME:CDT
DTSTART:20230312T080000
END:DAYLIGHT
BEGIN:STANDARD
TZOFFSETFROM:-0500
TZOFFSETTO:-0600
TZNAME:CST
DTSTART:20231105T070000
END:STANDARD
END:VTIMEZONE
BEGIN:VEVENT
DTSTART;TZID=America/Chicago:20230204T170000
DTEND;TZID=America/Chicago:20230204T233000
DTSTAMP:20260419T124716
CREATED:20230121T151908Z
LAST-MODIFIED:20230121T151946Z
UID:4356-1675530000-1675553400@bamaslamsaloon.com
SUMMARY:Today's Yesterday Band at Bama Slam
DESCRIPTION:Today’s Yesterday Band at Bama Slam on Saturday\, February  4\, 2023! Doors open at the Bama Slam Saloon at 5:00pm. Our restaurant will be serving food and our bar will have drink specials! Happy Hour starts from 5:00pm – 7:00pm. \nJoin us for a night of live music kicking off at 7:00pm with Today’s Yesterday Band and House Music with Slxxpy Head starting at 10:00pm.  \nWe offer on-site showers and bathrooms\, delicious food and full-service drinks\, the premier ATV and SxS park\, and more! Once you get to Bama Slam\, you will never want to leave! This event is presented by Mitchell Automotive Group.
URL:https://bamaslamsaloon.com/event/todays-yesterday-band-at-bama-slam-2/
ATTACH;FMTTYPE=image/png:https://bamaslamsaloon.com/wp-content/uploads/2023/01/TYB-Event-Post-1-.png
END:VEVENT
END:VCALENDAR